BEGIN:VCALENDAR
VERSION:2.0
PRODID:gruene-saarpfalz.de
METHOD:PUBLISH
BEGIN:VTIMEZONE
TZID:Europe/Berlin
X-LIC-LOCATION:Europe/Berlin
BEGIN:DAYLIGHT
TZOFFSETFROM:+0100
TZOFFSETTO:+0200
TZNAME:CEST
DTSTART:19700329T020000
RRULE:FREQ=YEARLY;INTERVAL=1;BYDAY=-1SU;BYMONTH=3
END:DAYLIGHT
BEGIN:STANDARD
TZOFFSETFROM:+0200
TZOFFSETTO:+0100
TZNAME:CET
DTSTART:19701025T030000
RRULE:FREQ=YEARLY;INTERVAL=1;BYDAY=-1SU;BYMONTH=10
END:STANDARD
END:VTIMEZONE
BEGIN:VEVENT
UID:e054318119fd8bf890ea5ecef871f46a@gruene-saarpfalz.de
URL;VALUE=URI:https://gruene-saarpfalz.de/termine/gruener-treff-in-jaeger
 sburg-energiewende-gemeinsam-gestalten/
LOCATION:Dorfgemeinschaftshaus hinter der Freiwilligen Feuerwehr, St. Jos
 ef Straße, Homburg-Jägersburg
SUMMARY:Grüner Treff in Jägersburg: Energiewende gemeinsam gestalten
DESCRIPTION;ALTREP="data:text/html,%0A%3Cp%3EDer%20Stadtverband%20B%C3%BC
 ndnis%2090%2FDie%20Gr%C3%BCnen%20Homburg%20l%C3%A4dt%20alle%20interessier
 ten%20B%C3%BCrgerinnen%20und%20B%C3%BCrger%20herzlich%20zum%20n%C3%A4chst
 en%20Gr%C3%BCnen%20Treff%20ein.%3C%2Fp%3E%0A%0A%0A%0A%3Cp%3EDie%20Veranst
 altung%20findet%20am%26nbsp%3B%3Cstrong%3EDonnerstag%2C%20den%2023.%20Apr
 il%202026%2C%20um%2019%3A00%20Uhr%3C%2Fstrong%3E%26nbsp%3Bim%20Dorfgemein
 schaftshaus%20hinter%20der%20Freiwilligen%20Feuerwehr%2C%20St.%20Josef%20
 Stra%C3%9Fe%2C%2066424%20Homburg-J%C3%A4gersburg%20statt.%3C%2Fp%3E%0A%0A
 %0A%0A%3Cp%3EIm%20Mittelpunkt%20des%20Abends%20steht%20das%20Thema%20Klim
 aschutz%20und%20Energieunabh%C3%A4ngigkeit.%20Als%20Referent%20spricht%26
 nbsp%3B%3Cstrong%3EG%C3%BCnter%20Walle%3C%2Fstrong%3E%26nbsp%3Bvon%20den%
 26nbsp%3B%3Cstrong%3EB%C3%BCrger-Energiegenossenschaften%20%28BEG%29%3C%2
 Fstrong%3E%26nbsp%3B%C3%BCber%20konkrete%20Wege%2C%20wie%20die%20Energiew
 ende%20vor%20Ort%20gelingen%20kann.%3C%2Fp%3E%0A%0A%0A%0A%3Ch2%20class%3D
 %22wp-block-heading%22%3EErneuerbare%20Energien%20als%20Schl%C3%BCssel%20
 zur%20Zukunft%3C%2Fh2%3E%0A%0A%0A%0A%3Cp%3EDie%20Klimakrise%20z%C3%A4hlt%
 20zu%20den%20gr%C3%B6%C3%9Ften%20Herausforderungen%20unserer%20Zeit.%20Fo
 ssile%20Energien%20sind%20Hauptverursacher%20der%20Treibhausgasemissionen
 %20und%20treiben%20die%20globale%20Erw%C3%A4rmung%20weiter%20voran.%20Gle
 ichzeitig%20machen%20sie%20uns%20abh%C3%A4ngig%20von%20unsicheren%20und%2
 0oft%20autokratisch%20gepr%C3%A4gten%20Lieferl%C3%A4ndern.%3C%2Fp%3E%0A%0
 A%0A%0A%3Cp%3EErneuerbare%20Energien%20%E2%80%93%20insbesondere%20Solar-%
 20und%20Windenergie%20%E2%80%93%20bieten%20hier%20eine%20nachhaltige%20Al
 ternative%3A%20Sie%20sind%20sauber%2C%20langfristig%20kosteng%C3%BCnstig%
 20und%20st%C3%A4rken%20die%20regionale%20sowie%20nationale%20Unabh%C3%A4n
 gigkeit%20in%20der%20Energieversorgung.%3C%2Fp%3E%0A%0A%0A%0A%3Ch2%20clas
 s%3D%22wp-block-heading%22%3EWas%20k%C3%B6nnen%20B%C3%BCrgerinnen%20und%2
 0B%C3%BCrger%20konkret%20tun%3F%3C%2Fh2%3E%0A%0A%0A%0A%3Cp%3EDer%20Vortra
 g%20zeigt%20praxisnah%20auf%2C%20wie%20jede%20und%20jeder%20Einzelne%20zu
 r%20Energiewende%20beitragen%20kann%3A%3C%2Fp%3E%0A%0A%0A%0A%3Cul%20class
 %3D%22wp-block-list%22%3E%0A%3Cli%3ENutzung%20von%20Photovoltaik%20auf%20
 dem%20eigenen%20Dach%3C%2Fli%3E%0A%0A%0A%0A%3Cli%3EKombination%20mit%20El
 ektromobilit%C3%A4t%20und%20W%C3%A4rmepumpen%3C%2Fli%3E%0A%0A%0A%0A%3Cli%
 3EBeteiligung%20an%20B%C3%BCrger%20%E2%80%93%20Energiegenossenschaften%3C
 %2Fli%3E%0A%3C%2Ful%3E%0A%0A%0A%0A%3Cp%3EDiese%20Ma%C3%9Fnahmen%20leisten
 %20nicht%20nur%20einen%20aktiven%20Beitrag%20zum%20Klimaschutz%2C%20sonde
 rn%20helfen%20auch%2C%20sich%20gegen%20steigende%20Energiepreise%20abzusi
 chern.%3C%2Fp%3E%0A%0A%0A%0A%3Ch2%20class%3D%22wp-block-heading%22%3EB%C3
 %BCrgerenergie%20st%C3%A4rkt%20die%20Region%3C%2Fh2%3E%0A%0A%0A%0A%3Cp%3E
 B%C3%BCrger%20%E2%80%93%20Energiegenossenschaften%20erm%C3%B6glichen%20es
 %2C%20die%20Energiewende%20demokratisch%20und%20vor%20Ort%20zu%20gestalte
 n.%20Sie%20schaffen%20regionale%20Wertsch%C3%B6pfung%20und%20geben%20B%C3
 %BCrgerinnen%20und%20B%C3%BCrgern%20die%20M%C3%B6glichkeit%2C%20finanziel
 l%20von%20nachhaltiger%20Energieerzeugung%20zu%20profitieren.%3C%2Fp%3E%0
 A%0A%0A%0A%3Ch2%20class%3D%22wp-block-heading%22%3EStimmen%20aus%20dem%20
 Stadtverband%3C%2Fh2%3E%0A%0A%0A%0A%3Cp%3E%E2%80%9EDie%20Klimakrise%20bed
 roht%20unsere%20Lebensgrundlagen%20%E2%80%93%20und%20sie%20erfordert%20en
 tschlossenes%20Handeln%20auf%20allen%20Ebenen.%20Mit%20dem%20Gr%C3%BCnen%
 20Treff%20wollen%20wir%20informieren%2C%20motivieren%20und%20konkrete%20W
 ege%20aufzeigen%2C%20wie%20jede%20und%20jeder%20Teil%20der%20L%C3%B6sung%
 20werden%20kann%E2%80%9C%2C%20erkl%C3%A4rt%26nbsp%3B%3Cstrong%3EKatrin%20
 Lauer%3C%2Fstrong%3E%2C%20Sprecherin%20des%20Stadtverbands%20B%C3%BCndnis
 %2090%2FDie%20Gr%C3%BCnen%20Homburg.%3C%2Fp%3E%0A%0A%0A%0A%3Cp%3EAuch%26n
 bsp%3B%3Cstrong%3EAndreas%20Filler%3C%2Fstrong%3E%2C%20Sprecher%20des%20S
 tadtverbands%2C%20betont%3A%20%E2%80%9EErneuerbare%20Energien%20stehen%20
 f%C3%BCr%20Klimaschutz%2C%20Unabh%C3%A4ngigkeit%20und%20wirtschaftliche%2
 0Chancen%20vor%20Ort.%20B%C3%BCrgerenergie%20ist%20dabei%20ein%20entschei
 dender%20Baustein%2C%20um%20die%20Menschen%20mitzunehmen%20und%20die%20En
 ergiewende%20gemeinsam%20zu%20gestalten.%E2%80%9C%3C%2Fp%3E%0A%0A%0A%0A%3
 Ch2%20class%3D%22wp-block-heading%22%3EEinladung%3C%2Fh2%3E%0A%0A%0A%0A%3
 Cp%3EAlle%20Interessierten%20sind%20herzlich%20eingeladen%2C%20sich%20zu%
 20informieren%2C%20mitzudiskutieren%20und%20Fragen%20zu%20stellen.%3C%2Fp
 %3E%0A%0A%0A%0A%3Cp%3EDer%20Eintritt%20ist%20frei.%3C%2Fp%3E%0A":Der Stad
 tverband Bündnis 90/Die Grünen Homburg lädt alle interessierten Bürge
 rinnen und Bürger herzlich zum nächsten Grünen Treff ein.\n\nDie Veran
 staltung findet am Donnerstag\, den 23. April 2026\, um 19:00 Uhr im Do
 rfgemeinschaftshaus hinter der Freiwilligen Feuerwehr\, St. Josef Straße
 \, 66424 Homburg-Jägersburg statt.\n\nIm Mittelpunkt des Abends steht da
 s Thema Klimaschutz und Energieunabhängigkeit. Als Referent spricht Gü
 nter Walle von den Bürger-Energiegenossenschaften (BEG) über konkret
 e Wege\, wie die Energiewende vor Ort gelingen kann.\n\nErneuerbare Energ
 ien als Schlüssel zur Zukunft\n\nDie Klimakrise zählt zu den größten 
 Herausforderungen unserer Zeit. Fossile Energien sind Hauptverursacher de
 r Treibhausgasemissionen und treiben die globale Erwärmung weiter voran.
  Gleichzeitig machen sie uns abhängig von unsicheren und oft autokratisc
 h geprägten Lieferländern.\n\nErneuerbare Energien – insbesondere Sol
 ar- und Windenergie – bieten hier eine nachhaltige Alternative: Sie sin
 d sauber\, langfristig kostengünstig und stärken die regionale sowie na
 tionale Unabhängigkeit in der Energieversorgung.\n\nWas können Bürgeri
 nnen und Bürger konkret tun?\n\nDer Vortrag zeigt praxisnah auf\, wie je
 de und jeder Einzelne zur Energiewende beitragen kann:\n\nNutzung von Pho
 tovoltaik auf dem eigenen Dach\n\nKombination mit Elektromobilität und W
 ärmepumpen\n\nBeteiligung an Bürger – Energiegenossenschaften\n\nDies
 e Maßnahmen leisten nicht nur einen aktiven Beitrag zum Klimaschutz\, so
 ndern helfen auch\, sich gegen steigende Energiepreise abzusichern.\n\nB
 ürgerenergie stärkt die Region\n\nBürger – Energiegenossenschaften e
 rmöglichen es\, die Energiewende demokratisch und vor Ort zu gestalten. 
 Sie schaffen regionale Wertschöpfung und geben Bürgerinnen und Bürgern
  die Möglichkeit\, finanziell von nachhaltiger Energieerzeugung zu profi
 tieren.\n\nStimmen aus dem Stadtverband\n\n„Die Klimakrise bedroht unse
 re Lebensgrundlagen – und sie erfordert entschlossenes Handeln auf alle
 n Ebenen. Mit dem Grünen Treff wollen wir informieren\, motivieren und k
 onkrete Wege aufzeigen\, wie jede und jeder Teil der Lösung werden kann
 “\, erklärt Katrin Lauer\, Sprecherin des Stadtverbands Bündnis 90/D
 ie Grünen Homburg.\n\nAuch Andreas Filler\, Sprecher des Stadtverbands\
 , betont: „Erneuerbare Energien stehen für Klimaschutz\, Unabhängigke
 it und wirtschaftliche Chancen vor Ort. Bürgerenergie ist dabei ein ents
 cheidender Baustein\, um die Menschen mitzunehmen und die Energiewende ge
 meinsam zu gestalten.“\n\nEinladung\n\nAlle Interessierten sind herzlic
 h eingeladen\, sich zu informieren\, mitzudiskutieren und Fragen zu stell
 en.\n\nDer Eintritt ist frei.
CLASS:PUBLIC
DTSTART;TZID=Europe/Berlin:20260423T190000
DTEND;TZID=Europe/Berlin:20260423T190000
DTSTAMP:20260422T163022
END:VEVENT
END:VCALENDAR