BEGIN:VCALENDAR
VERSION:2.0
PRODID:gruene-saarpfalz.de
METHOD:PUBLISH
BEGIN:VTIMEZONE
TZID:Europe/Berlin
X-LIC-LOCATION:Europe/Berlin
BEGIN:DAYLIGHT
TZOFFSETFROM:+0100
TZOFFSETTO:+0200
TZNAME:CEST
DTSTART:19700329T020000
RRULE:FREQ=YEARLY;INTERVAL=1;BYDAY=-1SU;BYMONTH=3
END:DAYLIGHT
BEGIN:STANDARD
TZOFFSETFROM:+0200
TZOFFSETTO:+0100
TZNAME:CET
DTSTART:19701025T030000
RRULE:FREQ=YEARLY;INTERVAL=1;BYDAY=-1SU;BYMONTH=10
END:STANDARD
END:VTIMEZONE
BEGIN:VEVENT
UID:68b7496ce3714d2053054dbe727a818d@gruene-saarpfalz.de
URL;VALUE=URI:https://gruene-saarpfalz.de/termine/oeffentlicher-gruener-a
 bend-rueckkehr-des-fischotters/
LOCATION:Landhaus am Kleinen Sägeweiher, Am Sägeweiher 201, 66459 Kirke
 l
SUMMARY:Öffentlicher Grüner Abend – Rückkehr des Fischotters
DESCRIPTION;ALTREP="data:text/html,%0A%3Cp%3EIm%20Landhaus%20am%20Kleinen
 %20S%C3%A4geweiher%2C%20Limbach.%3Cbr%3EHardy%20Welker%20bereitet%20einen
 %20Film-%20und%20Lichtbilder-Vortrag%20vor%C2%A0zum%20Thema%3A%3Cbr%3E%22
 R%C3%BCckkehr%20des%20Fischotters%20und%20aktuelle%20Arbeit%20im%20Monito
 ring%20f%C3%BCr%20das%20Umweltministerium.%22%3C%2Fp%3E%0A%0A%0A%0A%3Cp%3
 EHardy%20ist%20DIE%20Koryph%C3%A4e%20zu%20dem%20Thema%20und%20hat%20mit%2
 0vielen%20Mitstreitern%20an%20der%20Einstellung%20zur%20Planung%20B423neu
 %20durch%20die%20Mastau%20mitgewirkt.%3C%2Fp%3E%0A%0A%0A%0A%3Cp%3E%3C%2Fp
 %3E%0A":Im Landhaus am Kleinen Sägeweiher\, Limbach.Hardy Welker bereite
 t einen Film- und Lichtbilder-Vortrag vor zum Thema:"Rückkehr des Fisch
 otters und aktuelle Arbeit im Monitoring für das Umweltministerium."\n\n
 Hardy ist DIE Koryphäe zu dem Thema und hat mit vielen Mitstreitern an d
 er Einstellung zur Planung B423neu durch die Mastau mitgewirkt.
CLASS:PUBLIC
DTSTART;TZID=Europe/Berlin:20260610T183000
DTEND;TZID=Europe/Berlin:20260610T193000
DTSTAMP:20260422T163718
END:VEVENT
END:VCALENDAR