BEGIN:VCALENDAR
VERSION:2.0
PRODID:gruene-saarpfalz.de
METHOD:PUBLISH
BEGIN:VTIMEZONE
TZID:Europe/Berlin
X-LIC-LOCATION:Europe/Berlin
BEGIN:DAYLIGHT
TZOFFSETFROM:+0100
TZOFFSETTO:+0200
TZNAME:CEST
DTSTART:19700329T020000
RRULE:FREQ=YEARLY;INTERVAL=1;BYDAY=-1SU;BYMONTH=3
END:DAYLIGHT
BEGIN:STANDARD
TZOFFSETFROM:+0200
TZOFFSETTO:+0100
TZNAME:CET
DTSTART:19701025T030000
RRULE:FREQ=YEARLY;INTERVAL=1;BYDAY=-1SU;BYMONTH=10
END:STANDARD
END:VTIMEZONE
BEGIN:VEVENT
UID:bd172fb6e9c6aea4a2ab9753965cdf58@gruene-saarpfalz.de
URL;VALUE=URI:https://gruene-saarpfalz.de/termine/social-media-fuer-anfae
 nger/
LOCATION:online
SUMMARY:Social Media für Anfänger
DESCRIPTION;ALTREP="data:text/html,%3Cp%3EMicah%20schult%20die%20Kandidie
 renden%20und%20Mitglieder%3C%2Fp%3E":Micah schult die Kandidierenden und 
 Mitglieder
CLASS:PUBLIC
DTSTART;TZID=Europe/Berlin:20260427T180000
DTEND;TZID=Europe/Berlin:20260427T200000
DTSTAMP:20260422T162858
END:VEVENT
END:VCALENDAR