BEGIN:VCALENDAR
VERSION:2.0
PRODID:gruene-saarpfalz.de
METHOD:PUBLISH
BEGIN:VTIMEZONE
TZID:Europe/Berlin
X-LIC-LOCATION:Europe/Berlin
BEGIN:DAYLIGHT
TZOFFSETFROM:+0100
TZOFFSETTO:+0200
TZNAME:CEST
DTSTART:19700329T020000
RRULE:FREQ=YEARLY;INTERVAL=1;BYDAY=-1SU;BYMONTH=3
END:DAYLIGHT
BEGIN:STANDARD
TZOFFSETFROM:+0200
TZOFFSETTO:+0100
TZNAME:CET
DTSTART:19701025T030000
RRULE:FREQ=YEARLY;INTERVAL=1;BYDAY=-1SU;BYMONTH=10
END:STANDARD
END:VTIMEZONE
BEGIN:VEVENT
UID:0a199e47ea40be01201363a702a4086c@gruene-saarpfalz.de
URL;VALUE=URI:https://gruene-saarpfalz.de/termine/stadtradeln-2026-in-ger
 sheim/
LOCATION:Gemeinde Gersheim
SUMMARY:Stadtradeln 2026 in Gersheim
DESCRIPTION;ALTREP="data:text/html,%0A%3Cp%3EIn%20diesem%20Jahr%20findet%
 20das%20STADTRADELN%20in%20der%20Gemeinde%20Gersheim%20vom%2030.%20Mai%20
 bis%2019.%20Juni%202026%20statt.%20Weitere%20Infos%20folgen.%3C%2Fp%3E%0A
 ":In diesem Jahr findet das STADTRADELN in der Gemeinde Gersheim vom 30. 
 Mai bis 19. Juni 2026 statt. Weitere Infos folgen.
CLASS:PUBLIC
DTSTART;TZID=Europe/Berlin:20260530
DTEND;TZID=Europe/Berlin:20260620
DTSTAMP:20260422T171424
END:VEVENT
END:VCALENDAR